BEGIN:VCALENDAR
VERSION:2.0
PRODID:-//Stop stigma now - ECPv5.3.0//NONSGML v1.0//EN
CALSCALE:GREGORIAN
METHOD:PUBLISH
X-WR-CALNAME:Stop stigma now
X-ORIGINAL-URL:https://www.stopstigmanow.org
X-WR-CALDESC:Events for Stop stigma now
BEGIN:VTIMEZONE
TZID:America/New_York
BEGIN:DAYLIGHT
TZOFFSETFROM:-0500
TZOFFSETTO:-0400
TZNAME:EDT
DTSTART:20220313T070000
END:DAYLIGHT
BEGIN:STANDARD
TZOFFSETFROM:-0400
TZOFFSETTO:-0500
TZNAME:EST
DTSTART:20221106T060000
END:STANDARD
END:VTIMEZONE
BEGIN:VEVENT
DTSTART;TZID=America/New_York:20221206T100000
DTEND;TZID=America/New_York:20221206T110000
DTSTAMP:20260422T104929
CREATED:20221021T211406Z
LAST-MODIFIED:20230126T023426Z
UID:3798-1670320800-1670324400@www.stopstigmanow.org
SUMMARY:Break The Silence | Third Annual Virtual Fundraiser Breakfast - Dec 2022
DESCRIPTION:Join us for stories of struggles and accomplishments by advocates in support of medication treatment for opioid addiction.\nTuesday December 6 \,2022 – 10:00 am – 11:00 am\nOur event will feature stories of struggles and accomplishments by advocates and clients on Medication Treatment for opioid addiction. \nThe Keynote Speaker: Ingvild K. Olsen\, MD\, MPH\, Director of the Center for Substance Abuse (CSAT). \nGuest Speaker:  The Honorable Craig D. Hannah\, NYC Supreme Court Justice.  Judge Hannah has risen to national fame as the presiding judge of the first Opioid Intervention Court in the United States\, established in May 2017. \nHonoree: Dr. Phillip Paris \nSuggested Donation for Event:\n$ ___ Benefactor\,  $250 Advocate\, $100 Supporter\, $50  Friend \n  \n \nThank You For Your Generous Donation!\n  \nSponsored by: \n \n  \n  \n 
URL:https://www.stopstigmanow.org/event/break-the-silence-third-annual-virtual-fundraiser-breakfast/
CATEGORIES:past
ORGANIZER;CN="Stopstigmanow.org":MAILTO:jordanaalford@gmail.com
END:VEVENT
END:VCALENDAR