BEGIN:VCALENDAR
VERSION:2.0
PRODID:-//Stop stigma now - ECPv5.3.0//NONSGML v1.0//EN
CALSCALE:GREGORIAN
METHOD:PUBLISH
X-WR-CALNAME:Stop stigma now
X-ORIGINAL-URL:https://www.stopstigmanow.org
X-WR-CALDESC:Events for Stop stigma now
BEGIN:VTIMEZONE
TZID:UTC
BEGIN:STANDARD
TZOFFSETFROM:+0000
TZOFFSETTO:+0000
TZNAME:UTC
DTSTART:20230101T000000
END:STANDARD
END:VTIMEZONE
BEGIN:VEVENT
DTSTART;TZID=UTC:20230927T080000
DTEND;TZID=UTC:20230927T170000
DTSTAMP:20260421T211958
CREATED:20230918T170425Z
LAST-MODIFIED:20230919T144437Z
UID:5867-1695801600-1695834000@www.stopstigmanow.org
SUMMARY:SSN Virtual Meetings - Last Wednesday of Every Month
DESCRIPTION:JOIN ONE OF OUR MONTHLY STOP STIGMA NOW MEETINGS OF INTERESTED INDIVIDUALS ALONG WITH THE BOARD OF DIRECTORS (including those new to SSN)\nOccurs on the last Wednesday of every month\, 8 – 9:15 pm Eastern.\nIf you would like to participate as a guest\, please send a request to info@stopstigmanow.org
URL:https://www.stopstigmanow.org/event/ssn-virtual-meetings/
CATEGORIES:upcoming
END:VEVENT
END:VCALENDAR