BEGIN:VCALENDAR
VERSION:2.0
PRODID:-//Stop stigma now - ECPv5.3.0//NONSGML v1.0//EN
CALSCALE:GREGORIAN
METHOD:PUBLISH
X-WR-CALNAME:Stop stigma now
X-ORIGINAL-URL:https://www.stopstigmanow.org
X-WR-CALDESC:Events for Stop stigma now
BEGIN:VTIMEZONE
TZID:UTC
BEGIN:STANDARD
TZOFFSETFROM:+0000
TZOFFSETTO:+0000
TZNAME:UTC
DTSTART:20230101T000000
END:STANDARD
END:VTIMEZONE
BEGIN:VEVENT
DTSTART;TZID=UTC:20231114T120000
DTEND;TZID=UTC:20231114T130000
DTSTAMP:20260421T183725
CREATED:20231031T205906Z
LAST-MODIFIED:20240318T172036Z
UID:5966-1699963200-1699966800@www.stopstigmanow.org
SUMMARY:Speaker Series 2023
DESCRIPTION:David M. Novick\, MD. FASAM will present Stigma and Medications for addiction treatment:” Who\, What\, Where and Why. \nTuesday November 14 12:00 pm – 1:00 pm EST.
URL:https://www.stopstigmanow.org/event/speaker-series-2023/
ATTACH;FMTTYPE=image/png:https://www.stopstigmanow.org/wp-content/uploads/2023/10/Speaker-series-2.png
END:VEVENT
END:VCALENDAR