BEGIN:VCALENDAR
VERSION:2.0
PRODID:-//Stop stigma now - ECPv5.3.0//NONSGML v1.0//EN
CALSCALE:GREGORIAN
METHOD:PUBLISH
X-WR-CALNAME:Stop stigma now
X-ORIGINAL-URL:https://www.stopstigmanow.org
X-WR-CALDESC:Events for Stop stigma now
BEGIN:VTIMEZONE
TZID:UTC
BEGIN:STANDARD
TZOFFSETFROM:+0000
TZOFFSETTO:+0000
TZNAME:UTC
DTSTART:20240101T000000
END:STANDARD
END:VTIMEZONE
BEGIN:VEVENT
DTSTART;TZID=UTC:20240518T080000
DTEND;TZID=UTC:20240522T170000
DTSTAMP:20260421T101111
CREATED:20230918T165832Z
LAST-MODIFIED:20230918T165832Z
UID:5860-1716019200-1716397200@www.stopstigmanow.org
SUMMARY:AATOD 2024 Conference
DESCRIPTION:The American Association for the Treatment of Opioid Dependence (AATOD) national conference: \nMay 2024\, Las Vegas\nA group of Stop Stigma Now volunteers will again exhibit\, among our friends at AATOD.   If you’re attending\, please stop by our booth!
URL:https://www.stopstigmanow.org/event/aatod-2024-conference/
CATEGORIES:upcoming
END:VEVENT
END:VCALENDAR